BEGIN:VCALENDAR
VERSION:2.0
PRODID:-//Simone Weil Denkkollektiv - ECPv6.15.20//NONSGML v1.0//EN
CALSCALE:GREGORIAN
METHOD:PUBLISH
X-WR-CALNAME:Simone Weil Denkkollektiv
X-ORIGINAL-URL:https://www2.hu-berlin.de/simoneweil-denkkollektiv
X-WR-CALDESC:Events for Simone Weil Denkkollektiv
REFRESH-INTERVAL;VALUE=DURATION:PT1H
X-Robots-Tag:noindex
X-PUBLISHED-TTL:PT1H
BEGIN:VTIMEZONE
TZID:Europe/Berlin
BEGIN:DAYLIGHT
TZOFFSETFROM:+0100
TZOFFSETTO:+0200
TZNAME:CEST
DTSTART:20190331T010000
END:DAYLIGHT
BEGIN:STANDARD
TZOFFSETFROM:+0200
TZOFFSETTO:+0100
TZNAME:CET
DTSTART:20191027T010000
END:STANDARD
BEGIN:DAYLIGHT
TZOFFSETFROM:+0100
TZOFFSETTO:+0200
TZNAME:CEST
DTSTART:20200329T010000
END:DAYLIGHT
BEGIN:STANDARD
TZOFFSETFROM:+0200
TZOFFSETTO:+0100
TZNAME:CET
DTSTART:20201025T010000
END:STANDARD
BEGIN:DAYLIGHT
TZOFFSETFROM:+0100
TZOFFSETTO:+0200
TZNAME:CEST
DTSTART:20210328T010000
END:DAYLIGHT
BEGIN:STANDARD
TZOFFSETFROM:+0200
TZOFFSETTO:+0100
TZNAME:CET
DTSTART:20211031T010000
END:STANDARD
BEGIN:DAYLIGHT
TZOFFSETFROM:+0100
TZOFFSETTO:+0200
TZNAME:CEST
DTSTART:20220327T010000
END:DAYLIGHT
BEGIN:STANDARD
TZOFFSETFROM:+0200
TZOFFSETTO:+0100
TZNAME:CET
DTSTART:20221030T010000
END:STANDARD
BEGIN:DAYLIGHT
TZOFFSETFROM:+0100
TZOFFSETTO:+0200
TZNAME:CEST
DTSTART:20230326T010000
END:DAYLIGHT
BEGIN:STANDARD
TZOFFSETFROM:+0200
TZOFFSETTO:+0100
TZNAME:CET
DTSTART:20231029T010000
END:STANDARD
END:VTIMEZONE
BEGIN:VEVENT
DTSTART;VALUE=DATE:20221019
DTEND;VALUE=DATE:20221022
DTSTAMP:20260423T133410
CREATED:20220926T122241Z
LAST-MODIFIED:20220928T100908Z
UID:23222-1666137600-1666396799@www2.hu-berlin.de
SUMMARY:Criatura\, creador\, decreación. Simone Weil | Giorgio Agamben
DESCRIPTION:“Criatura\, creador\, decreación. Simone Weil | Giorgio Agamben” will be the topic of Martina’s talk at the international conference “Giorgio Agamben. The Urgency of Thought / Giorgio Agamben: la urgencia del pensamiento“. From 19 to 21 October scholars\, philosophers\, and artists from different fields try to find approaches to Agamben’s oeuvre. One of the many questions Martina wants to ask Agamben concerns his unpublished dissertation on Simone Weil and his use of Weil’s notion of ‘décréation’.
URL:https://www2.hu-berlin.de/simoneweil-denkkollektiv/event/criatura-creador-decreacion-simone-weil-giorgio-agamben/
ATTACH;FMTTYPE=image/png:https://www2.hu-berlin.de/simoneweil-denkkollektiv/wp-content/uploads/2022/09/collage-agamben-weil-freigestellt.png
END:VEVENT
BEGIN:VEVENT
DTSTART;VALUE=DATE:20221005
DTEND;VALUE=DATE:20221006
DTSTAMP:20260423T133410
CREATED:20220928T100014Z
LAST-MODIFIED:20220929T105348Z
UID:23225-1664928000-1665014399@www2.hu-berlin.de
SUMMARY:Leipzig denkt: ‘What can we still do now? Alert and utopia’ (‘Was ist uns jetzt noch möglich? Alarm und Utopie‘)
DESCRIPTION:On Wednesday\, 5 October 2022\, Simone Weil aka Martina will debate the question ‘What can we still do now? Alert and utopia’ (‘Was ist uns jetzt noch möglich? Alarm und Utopie‘) together with Hannah Arendt\, Hans Jonas\, and Ernst Bloch. This discussion among four dead philosophers is part of the philosophy festival ‘Leipzig denkt’. The event will be live streamed and recorded. \nFeatured Image: © Copyright 2022 Transformatorenwerk Leipzig
URL:https://www2.hu-berlin.de/simoneweil-denkkollektiv/event/23225/
ATTACH;FMTTYPE=image/jpeg:https://www2.hu-berlin.de/simoneweil-denkkollektiv/wp-content/uploads/2022/09/TFL_KeyVisual_final_02@0.5x.jpg
END:VEVENT
BEGIN:VEVENT
DTSTART;VALUE=DATE:20221002
DTEND;VALUE=DATE:20221005
DTSTAMP:20260423T133410
CREATED:20220912T120618Z
LAST-MODIFIED:20220912T120618Z
UID:23162-1664668800-1664927999@www2.hu-berlin.de
SUMMARY:Retreat: Lines\, lines\, dot\, line. K N O T.
DESCRIPTION:We need knots. The denkkollektiv\, c’est vivre la cordée: Manifold lines of flight\, people\, friends\, yet unknown projects docking and un-docking\, ever-changing constellations\, and cooperation. From time to time – at least once a year – we hold our breaths to let the past\, present\, and future merge. This year we will come together in the Dominican monastery in Leipzig: Sunday\, 2 to Tuesday\, 4 October. By sorting out knots\, new knots will emerge. Time for a retreat.
URL:https://www2.hu-berlin.de/simoneweil-denkkollektiv/event/retreat-lines-lines-dot-line-k-n-o-t/
ATTACH;FMTTYPE=image/jpeg:https://www2.hu-berlin.de/simoneweil-denkkollektiv/wp-content/uploads/2022/09/la-cordee.jpg
END:VEVENT
BEGIN:VEVENT
DTSTART;VALUE=DATE:20220715
DTEND;VALUE=DATE:20220716
DTSTAMP:20260423T133410
CREATED:20220922T115945Z
LAST-MODIFIED:20220923T141645Z
UID:23216-1657843200-1657929599@www2.hu-berlin.de
SUMMARY:Review: 'Die unzeitgemäße Zeitgenossin' by Max Walther and Thomas Sojer
DESCRIPTION:In this review\, Thomas Sojer and Max Walther discuss the two works ‘The Subversive Simone Weil. A Life in Five Ideas’ by Robert Zaretsky and ‘Effort and Grace. On the Spiritual Exercise of Philosophy’ by Simone Kotva. It was published in Soziopolis in July 2022. Read the review here.
URL:https://www2.hu-berlin.de/simoneweil-denkkollektiv/event/review-die-unzeitgemase-zeitgenossin-by-max-walther-and-thomas-sojer/
ATTACH;FMTTYPE=image/png:https://www2.hu-berlin.de/simoneweil-denkkollektiv/wp-content/uploads/2022/09/unzeitgemase.png
END:VEVENT
BEGIN:VEVENT
DTSTART;VALUE=DATE:20220324
DTEND;VALUE=DATE:20220326
DTSTAMP:20260423T133410
CREATED:20220405T164658Z
LAST-MODIFIED:20220405T164658Z
UID:23039-1648080000-1648252799@www2.hu-berlin.de
SUMMARY:Intra-Actions of Reading. Karen Barad | Simone Weil
DESCRIPTION:Martina Bengert made a contribution in the context of the interdisciplinary workshop “Intra/Sections\, Schnitt/Mengen. Post-Anthropocentric Concepts of Multiplicities” at ICI Berlin.
URL:https://www2.hu-berlin.de/simoneweil-denkkollektiv/event/intra-actions-of-reading-karen-barad-simone-weil/
ATTACH;FMTTYPE=image/jpeg:https://www2.hu-berlin.de/simoneweil-denkkollektiv/wp-content/uploads/2022/04/dispositiv_intrasections_plakat_A2_220201_ohneBeschnitt-scaled.jpg
END:VEVENT
BEGIN:VEVENT
DTSTART;VALUE=DATE:20220110
DTEND;VALUE=DATE:20220111
DTSTAMP:20260423T133410
CREATED:20211118T164251Z
LAST-MODIFIED:20211210T080513Z
UID:21784-1641772800-1641859199@www2.hu-berlin.de
SUMMARY:The denʞkollektiv introduces itself in the context of Esther Ramharter's seminar "Lektüreproseminar: Texte von Simone Weil"
DESCRIPTION:Esther Ramharter\, member of the HUVAC-project\, will give the denʞkollektiv the opportunity to introduce itself to new students of Simone Weil’s work in the context of her Simone Weil reading seminar at the University of Vienna. The seminar takes place during Winter Term 2021/22 and focuses on giving students a broad understanding of Weil while also training students’ basic philosophical skills. \nThe denʞkollektiv will give the course insight into some of the most topical questions in Simone Weil scholarship while also contextualising Weil’s work within current reception trends.
URL:https://www2.hu-berlin.de/simoneweil-denkkollektiv/event/the-denkkollektiv-introduces-itself-in-esther-ramharters-seminar/
LOCATION:University of Vienna\, Austria
END:VEVENT
BEGIN:VEVENT
DTSTART;VALUE=DATE:20211130
DTEND;VALUE=DATE:20211201
DTSTAMP:20260423T133410
CREATED:20211207T134913Z
LAST-MODIFIED:20211207T134913Z
UID:22556-1638230400-1638316799@www2.hu-berlin.de
SUMMARY:Écriture sabotée
DESCRIPTION:In November 2021\, the Istanbul art magazine Art  Unlimited published the Turkish version of the writing experiment “Écriture  sabotée/sabotage créateur. Reading Simone Weil\, Strolling Through  Textual Ruins” by Tom Sojer\, Max Walther and Martina Bengert. We experimented with Simone Weil’s notion of ‘not reading’ in collaboration with artist Thomas Hirschhorn\, approaching the concept via multiple overlapping readings\, comments and responses. The project was curated within the framework of Shulamit Bruckstein’s dossier “Wednesday  Society”. We would also like to thank the Simone Weil Foundation for their generous  financial support in translating the text into Turkish.
URL:https://www2.hu-berlin.de/simoneweil-denkkollektiv/event/ecriture-sabotee/
ATTACH;FMTTYPE=image/png:https://www2.hu-berlin.de/simoneweil-denkkollektiv/wp-content/uploads/2021/12/Ecriture-sabotee.png
END:VEVENT
BEGIN:VEVENT
DTSTART;VALUE=DATE:20211122
DTEND;VALUE=DATE:20211123
DTSTAMP:20260423T133410
CREATED:20211126T172846Z
LAST-MODIFIED:20211126T172946Z
UID:22469-1637539200-1637625599@www2.hu-berlin.de
SUMMARY:Drei Sätze #6: Martina Bengert\, Thomas Sojer\, Max Walther
DESCRIPTION:Max Walther\, Tom Sojer and Martina Bengert wrote a collaborative text in the section “ Drei Sätze” (“Three Sentences”) of “Literaturwissenschaft Berlin”\, which informs literary scholars and enthusiasts about the latest debates\, events and research in the Berlin literary scene. Their text explains/performs in its own way what thinking in a collective means (to the denkkollektiv).
URL:https://www2.hu-berlin.de/simoneweil-denkkollektiv/event/drei-satze-6-martina-bengert-thomas-sojer-max-walther/
ATTACH;FMTTYPE=image/jpeg:https://www2.hu-berlin.de/simoneweil-denkkollektiv/wp-content/uploads/2021/11/Drei-Satze-Titelbild-real-01.jpg
END:VEVENT
BEGIN:VEVENT
DTSTART;TZID=Europe/Berlin:20211018T070000
DTEND;TZID=Europe/Berlin:20211018T080000
DTSTAMP:20260423T133410
CREATED:20200625T124917Z
LAST-MODIFIED:20211119T170734Z
UID:15054-1634540400-1634544000@www2.hu-berlin.de
SUMMARY:metaxy[l]ophon n°1
DESCRIPTION:“What becomes of agency in a more-than-human world?” \n  \nmetaxy[l]ophon: Our new event series \nWe are always searching for new ways of thinking and working together in order to find inspiring and innovative ways of working in collectives\, communities and networks that supplement ‘regular’ academic events such as workshops\, conferences and seminars. This continuous search has yielded our new online event series\, the “metaxy[l]ophon.” \nThe ancient Greek word ‘metaxy’ means ‘in-between’ and is one of the most significant notions in Simone Weil’s thinking. The ‘metaxy’ refers to relations\, or more precisely\, to relationality. It links and separates at the same time. The “xylophone” (German ‘Xylophon’ without ‘e’ at the end) helps us to listen attentively: to words but also to spaces between the words\, to rhythm and sound. \nWe envision the “metaxy[l]ophon” as an open series of table-talk-like dialogues lasting roughly one hour. These dialogues will briefly interrupt and simultaneously enrich everyday life: Two researchers\, theorists or artists sit at a virtual table in order to think and talk.
URL:https://www2.hu-berlin.de/simoneweil-denkkollektiv/event/event-1/
ATTACH;FMTTYPE=image/jpeg:https://www2.hu-berlin.de/simoneweil-denkkollektiv/wp-content/uploads/2021/10/0001-scaled.jpg
END:VEVENT
BEGIN:VEVENT
DTSTART;TZID=Europe/Berlin:20211003T160000
DTEND;TZID=Europe/Berlin:20211003T180000
DTSTAMP:20260423T133410
CREATED:20211118T160236Z
LAST-MODIFIED:20211118T160353Z
UID:21768-1633276800-1633284000@www2.hu-berlin.de
SUMMARY:Steirischer Herbst ’21: Simone Weil… [nicht zu akademisch]
DESCRIPTION:On 3 October 2021\, Max Walther\, Tom Sojer and Martina Bengert from the Simone Weil denkkollektiv held an open performance lecture as part of the Austrian art festival “Steirischer Herbst”. The performance took place in the immediate vicinity of Thomas Hirschhorn’s “Simone Weil Memorial” on Esperantoplatz in Graz. The performance was entitled “Simone Weil […] not too academic” and comprised a trialogue about Weil’s thinking\, actions and work. We were particularly pleased about the subsequent discussion with the audience and passers-by\, among which there were people who perhaps came into contact with Simone Weil for the first time that day.
URL:https://www2.hu-berlin.de/simoneweil-denkkollektiv/event/steirischer-herbst-21-simone-weil-nicht-zu-akademisch/
LOCATION:Graz
ATTACH;FMTTYPE=image/png:https://www2.hu-berlin.de/simoneweil-denkkollektiv/wp-content/uploads/2021/11/steirischer-herbst-1.png
END:VEVENT
BEGIN:VEVENT
DTSTART;VALUE=DATE:20210927
DTEND;VALUE=DATE:20211001
DTSTAMP:20260423T133410
CREATED:20200625T125006Z
LAST-MODIFIED:20211201T221730Z
UID:15058-1632700800-1633046399@www2.hu-berlin.de
SUMMARY:Workshop: Attention. Öffnungen durchqueren nach Simone Weil (HUVAC-Project 2021 "Simone Weil Revisited")
DESCRIPTION: \n\n\n\n\n\nThe international and interdisciplinary workshop “Attention. Öffnungen durchqueren nach Simone Weil” took place at the University of Vienna from 27 to 30 September 21. In this German-language\, in-person workshop\, students and established scholars of both the University of Vienna and the HU Berlin gathered to discuss and explore Weil’s writings at an eye-to-eye level. All inputs and discussions centred around the concept of attention\, which is at the core of Weil’s philosophy.\n\n \n\nThe event was organised by the members of the HUVAC-project\, with special support from Max Walther and Tom Sojer (Simone Weil denkkollektiv) as well as Camila Navas López. On 29/9/21 the workshop participants discussed various resonances between the writings of Simone Weil and Susan Taubes with Prof. Dr. Thomas Macho from IFK Vienna and Dr. Christina Pareigis (Hamburg). On 30/9/21 the workshop concluded with a deliberately experimental “Denkatelier\,” in which we looked for creative ways to bring together the central ideas developed in the course of the workshop. This process was filmed by the artist Matthias Mollner\, who in turn translated the central theme of ‘attention’ into an auditory-visual recording. You can watch the film here.
URL:https://www2.hu-berlin.de/simoneweil-denkkollektiv/event/event-2/
LOCATION:University of Vienna\, Austria
ATTACH;FMTTYPE=image/png:https://www2.hu-berlin.de/simoneweil-denkkollektiv/wp-content/uploads/2020/06/Plakat-fur-Website-2.png
END:VEVENT
BEGIN:VEVENT
DTSTART;VALUE=DATE:20210906
DTEND;VALUE=DATE:20210907
DTSTAMP:20260423T133410
CREATED:20220127T072512Z
LAST-MODIFIED:20220128T131818Z
UID:22878-1630886400-1630972799@www2.hu-berlin.de
SUMMARY:The Denkkollektiv joined the group Women in the History of Philosophy ("AG Frauen in der Geschichte der Philosophie")
DESCRIPTION:In September 2021\, the Denkkollektiv became a member of Women in the History of Philosophy\, an initiative led by the German Society for Philosophy. On 6 September\, Max Walther and Tom Sojer introduced the Denkkollektiv to participants of the annual conference of the German Society for Philosophy\, which the University of Erlangen-Nuremberg hosted as an online event.
URL:https://www2.hu-berlin.de/simoneweil-denkkollektiv/event/the-denkkollektiv-joined-the-ag-women-in-the-history-of-philosophy-of-the-german-society-for-philosophy/
END:VEVENT
BEGIN:VEVENT
DTSTART;VALUE=DATE:20210326
DTEND;VALUE=DATE:20210327
DTSTAMP:20260423T133410
CREATED:20211118T154117Z
LAST-MODIFIED:20211118T154937Z
UID:21751-1616716800-1616803199@www2.hu-berlin.de
SUMMARY:Workshop: Arbeit an Simone Weil
DESCRIPTION:This student workshop was inspired by the lively discussions that took place during the seminar sessions in Winter Term 2020/21 that were open to both students of the University of Vienna and students of HU Berlin. On 26/3/2021\, some of those students came together with the denkkollektiv and the members of the HUVAC-project to consider Weil’s œuvre based on her understanding of work.
URL:https://www2.hu-berlin.de/simoneweil-denkkollektiv/event/arbeit-an-simone-weil/
LOCATION:online
ATTACH;FMTTYPE=image/jpeg:https://www2.hu-berlin.de/simoneweil-denkkollektiv/wp-content/uploads/2021/11/Poster-Studierenden-Workshop-26.3.21-1.jpg
END:VEVENT
BEGIN:VEVENT
DTSTART;TZID=Europe/Berlin:20210131T160000
DTEND;TZID=Europe/Berlin:20210131T170000
DTSTAMP:20260423T133410
CREATED:20211126T161512Z
LAST-MODIFIED:20211126T173524Z
UID:22448-1612108800-1612112400@www2.hu-berlin.de
SUMMARY:Podcast: Wolfram Eilenberger (Berlin) und Martina Bengert (denʞkollektiv): Eine Denkerin der radikalen Hoffnung
DESCRIPTION:On 31 January 2021\, Simone Miller welcomed Martina Bengert und Wolfram Eilenberger to the Deutschlandfunk Kultur podcast Sein & Streit. They discussed the ways in which Simone Weil and her concept of radical hope are still relevant today (title of the episode: “Philosophin Simone Weil. Eine Denkerin der radikalen Hoffnung”). You can listen to the podcast episode here.
URL:https://www2.hu-berlin.de/simoneweil-denkkollektiv/event/podcast-wolfram-eilenberger-berlin-und-martina-bengert-den%ca%9ekollektiv-eine-denkerin-der-radikalen-hoffnung/
ATTACH;FMTTYPE=image/jpeg:https://www2.hu-berlin.de/simoneweil-denkkollektiv/wp-content/uploads/2021/11/Episode-Sein-Streit-besser-vllt-01.jpg
END:VEVENT
BEGIN:VEVENT
DTSTART;TZID=Europe/Berlin:20210112T080000
DTEND;TZID=Europe/Berlin:20210129T170000
DTSTAMP:20260423T133410
CREATED:20211118T161929Z
LAST-MODIFIED:20211126T165413Z
UID:21779-1610438400-1611939600@www2.hu-berlin.de
SUMMARY:Joint Seminar Sessions in Winter Term 2020/21 (HUVAC-Project 2021 “Simone Weil Revisited”)
DESCRIPTION:In Winter Term 2020/2021\, three digital seminars revolving around Simone Weil took place (Martina Bengert’s B.A. seminar\, Department of Romance Studies\, HU Berlin: “Fractures\, Splinters\, Lists. Reading Simone Weil”; Sandra Lehmann’s M.A. seminar\, Department of Intercultural Philosophy of Religion\, University of Vienna: “Simone Weil. Mysticism and Politics”; Esther Ramharter’s M.A. seminar\, Department of Philosophy\, University of Vienna: “Philosophy of Religion”). In the spirit of productive heterogeneity\, these three courses brought together students who were at different stages in their studies (BA/MA/PhD) as well as students from different fields of study\, including Romance Studies\, Literary Studies\, Philosophy\, as well as Catholic and Protestant Theology and Education. Both teachers and students found the joint sessions extremely enriching and stimulating as these sessions created an awareness of various interdisciplinary approaches to Weil’s texts.
URL:https://www2.hu-berlin.de/simoneweil-denkkollektiv/event/joint-seminar-sessions-in-winter-term-2020-21-huvac-project-2021-simone-weil-revisited/
LOCATION:online
ATTACH;FMTTYPE=image/jpeg:https://www2.hu-berlin.de/simoneweil-denkkollektiv/wp-content/uploads/2021/11/joint-seminar-sessions_Zeichenflache-1.jpg
END:VEVENT
BEGIN:VEVENT
DTSTART;TZID=Europe/Berlin:20200723T170000
DTEND;TZID=Europe/Berlin:20200725T183000
DTSTAMP:20260423T133410
CREATED:20211107T204209Z
LAST-MODIFIED:20211118T154737Z
UID:21059-1595523600-1595701800@www2.hu-berlin.de
SUMMARY:death | text | resonance
DESCRIPTION:Simone Weil and Writing to(wards) Death\nOur digital conference took place from July 23 to July 25 2020 via Zoom.  If you would like to take a look at what we talked about\, please click on the corresponding titles in the programme below: \nProgramme:\nJuly 23\, 2020: 5 p.m. – 6:30 p.m. CET  \n  \nChair: Martina Bengert \n  \nPanel: Simone Kotva & Hartmut Rosa  \n  \n  \n  \nJuly 23\, 2020: 7 p.m. – 8:30 p.m. CET  \n  \nChair: Martina Bengert \n  \nPanel: Linn Tonstad\, Gwendolen Dupré \n  \n  \n  \nJuly 24\, 2020: 7 p.m. – 8:30 p.m CET \n  \nChair: Max Walther \nPanel: \nJohanna Nuber\, Michelle Ty\, Scott Ritner \n  \n  \n  \nJuly 25\, 2020: 7 p.m. – 8:30 p.m CET \n  \nChair: Thomas Sojer \n  \nPanel: Samir Sellami\, Emily King\, Kathryn Lawson
URL:https://www2.hu-berlin.de/simoneweil-denkkollektiv/event/death-text-resonance/
LOCATION:online
ATTACH;FMTTYPE=image/png:https://www2.hu-berlin.de/simoneweil-denkkollektiv/wp-content/uploads/2021/11/Invitation-death_text_resonance-final-July-2020_sml.png
END:VEVENT
BEGIN:VEVENT
DTSTART;TZID=Europe/Berlin:20200512T180000
DTEND;TZID=Europe/Berlin:20210428T200000
DTSTAMP:20260423T133410
CREATED:20211118T163647Z
LAST-MODIFIED:20211126T173755Z
UID:21782-1589306400-1619640000@www2.hu-berlin.de
SUMMARY:Simone Weil Reading Group
DESCRIPTION:The Simone Weil Reading Group\, organised by Tom Sojer\, took place in the shape of monthly online meetings which were open to everybody interested in Simone Weil’s writings. During each session\, participants discussed one specific text passage in depth\, selected by the moderator. These monthly online meetings were created in response to lockdown; they are now a finished project. If you are interested in open-dialogue events akin to the reading group\, feel free to join the next edition of the metaxy[l]ophon\, our new online event series intended to take place every other month.
URL:https://www2.hu-berlin.de/simoneweil-denkkollektiv/event/simone-weil-reading-group/
ATTACH;FMTTYPE=image/jpeg:https://www2.hu-berlin.de/simoneweil-denkkollektiv/wp-content/uploads/2021/11/Bild-fur-Reading-Group-blasser-scaled.jpg
END:VEVENT
END:VCALENDAR